BEGIN:VCALENDAR
VERSION:2.0
PRODID:-//eventon.com NONSGML v1.0//EN
CALSCALE:GREGORIAN
METHOD:PUBLISH
BEGIN:VEVENT
UID:69e75e017a595
DTSTAMP:20260421T112241Z
DTSTART:20250622T170000Z
DTEND:20250622T190000Z
LOCATION:Kulturtreff Norderstedt Paul-Gerhardt-Gemeindezentrum in Norderstedt-Mitte (Altes Buckhörner Moor 16)
SUMMARY:Norderstedt: Nordischer Midsommarabend
DESCRIPTION:Skandinavische Klangreise in Norderstedt Apila nimmt die Zuhör
 erinnen und Zuhörer mit auf eine klangvolle Entdeckungsreise in den nordis
 chen Sommer. Inspiriert von der Mitternachtssonne\,  die Farben und Stimmun
 gen zum Leuchten bringt\,  erzählen die Lieder von der Freude des Frühlin
 gs\,  dem Rauschen des Windes und dem Zauber der hellen Nächte. Die Musik[
 ..]\nhttps://schleswig-holstein.sh/blog/veranstaltungen/nordischer-midsomma
 rabend/
URL:https://schleswig-holstein.sh/blog/veranstaltungen/nordischer-midsommarabend/
END:VEVENT
END:VCALENDAR