BEGIN:VCALENDAR
VERSION:2.0
PRODID:-//eventon.com NONSGML v1.0//EN
CALSCALE:GREGORIAN
METHOD:PUBLISH
BEGIN:VEVENT
UID:69e74622a0d26
DTSTAMP:20260421T094050Z
DTSTART:20250730T090000Z
DTEND:20250730T110000Z
LOCATION:Ostholstein-Museum Schlossplatz 1\,  23701 Eutin
SUMMARY:Machs`s wie Wilhelm Busch! - Gestalte deine eigene Bildergeschichte
DESCRIPTION:Mach´s wie Wilhelm Busch! Mit der Kinderprogramm-Reihe &#8222;
 Mach´s wie Wilhelm Busch!&#8220; für Kinder b 8 Jahren lädt das Museum a
 lle Nachwuchskünstlerinnen und -künstler dazu ein\,  sich selbst mal als 
 Dichter\,  Bildergeschichten-und Comic-Zeichner oder auch als Maler zu vers
 uchen. Bildergeschichten gestalten! Nach einer kleinen Führung durch die W
 ilhelm Busch-Ausstellung\,  bei der[..]\nhttps://schleswig-holstein.sh/blog
 /veranstaltungen/machss-wie-wilhelm-busch-gestalte-deine-eigene-bildergesch
 ichte/
URL:https://schleswig-holstein.sh/blog/veranstaltungen/machss-wie-wilhelm-busch-gestalte-deine-eigene-bildergeschichte/
END:VEVENT
END:VCALENDAR