BEGIN:VCALENDAR
VERSION:2.0
PRODID:-//eventon.com NONSGML v1.0//EN
CALSCALE:GREGORIAN
METHOD:PUBLISH
BEGIN:VEVENT
UID:69e756b70db30
DTSTAMP:20260421T105135Z
DTSTART:20251115T090000Z
DTEND:20251116T190000Z
LOCATION:Kulturwerft Gollan Einsiedelstraße 6\,  23554 Lübeck
SUMMARY:Tattoo Convention Lübeck
DESCRIPTION:Hallo und herzlich willkommen zur Tattooconvention in Lübeck! 
 Am 15. und 16. November 2025 öffnet die Tattoomesse ihre Tore und lädt al
 le Tattoo-Enthusiasten und Neugierigen nach Lübeck ein. Tauche ein in die 
 faszinierende Welt der Körperkunst und erlebe ein unvergessliches Wochenen
 de voller Kreativität\,  Inspiration und Spaß! Die Tattooconvention Lübe
 ck präsentiert[..]\nhttps://schleswig-holstein.sh/blog/veranstaltungen/tat
 too-convention-luebeck/
URL:https://schleswig-holstein.sh/blog/veranstaltungen/tattoo-convention-luebeck/
END:VEVENT
END:VCALENDAR