BEGIN:VCALENDAR
VERSION:2.0
PRODID:-//eventon.com NONSGML v1.0//EN
CALSCALE:GREGORIAN
METHOD:PUBLISH
BEGIN:VEVENT
UID:69e75e0111881
DTSTAMP:20260421T112241Z
DTSTART:20251206T100000Z
DTEND:20251207T160000Z
LOCATION:Technik- und Ökologiezentrum Eckernförde 24340 Eckernförde\,  Marienthaler Str. 17
SUMMARY:Markt der Künste im TÖZ\,  Eckernförde
DESCRIPTION:Der Verein Kunst und Kultur Hüttener Berge e.V. veranstaltet s
 einen Markt der Künste für alle\,  die Kunst und Kunsthandwerk lieben. Ru
 nd 40 Aussteller und Ausstellerinnen präsentieren handgemachte Unikate. Wi
 e immer wird eine große Vielfalt an verschiedenen Gewerken angeboten\,  di
 e zum Bummeln und Kaufen einladen: Malerei\,  Fotografie\,  Skulpturen aus 
 Holz\,  Stahl[..]\nhttps://schleswig-holstein.sh/blog/veranstaltungen/markt
 -der-kuenste-im-toez-eckernfoerde-2/
URL:https://schleswig-holstein.sh/blog/veranstaltungen/markt-der-kuenste-im-toez-eckernfoerde-2/
END:VEVENT
END:VCALENDAR