BEGIN:VCALENDAR
VERSION:2.0
PRODID:-//eventon.com NONSGML v1.0//EN
CALSCALE:GREGORIAN
METHOD:PUBLISH
BEGIN:VEVENT
UID:69e5dd93df3eb
DTSTAMP:20260420T080227Z
DTSTART:20250712T150000Z
DTEND:20250727T160000Z
LOCATION:SaalgalerieRW Kronsforder Hauptstr. 59a\,  23560 Lübeck
SUMMARY:Saalgalerie RW  Kleinplastik in Schleswig-Holstein
DESCRIPTION:Ich möchte in meiner Galerie einen Überblick über bildnerisc
 he Techniken in der Bildhauerkunst geben und habe dazu Künstler-Innen aus 
 der Gemeinschaft Lübecker Künstlerinnen und Künstler e.V.\,  der Lübeck
 er Defacto Art e.V. und des Bundesverbandes Bildender Künstler und Künstl
 erinnen\,  Landesverband Schleswig-Holstein e.V. eingeladen. Gezeigt werden
  auch Arbeiten verstorbener Künstler-Innen. Teilnehmende Künstler-Innen[.
 .]\nhttps://schleswig-holstein.sh/blog/veranstaltungen/saalgalerie-rw-klein
 plastik-in-schleswig-holstein/
URL:https://schleswig-holstein.sh/blog/veranstaltungen/saalgalerie-rw-kleinplastik-in-schleswig-holstein/
END:VEVENT
END:VCALENDAR