BEGIN:VCALENDAR
VERSION:2.0
PRODID:-//eventon.com NONSGML v1.0//EN
CALSCALE:GREGORIAN
METHOD:PUBLISH
BEGIN:VEVENT
UID:69e7461f24731
DTSTAMP:20260421T094047Z
DTSTART:20250712T130000Z
DTEND:20250712T215900Z
LOCATION:Kurpark Malente\,  Musikpavillon Bahnhofstraße 4a\,  23714 Bad Malente-Gremsmühlen
SUMMARY:Malente: 1960s Revival: Dream Cars\,  Rock’n Roll & Food Trucks
DESCRIPTION:Der Verein der Freunde des Kurparks in Zusammenarbeit mit der M
 alente Tourismus und Service GmbH lädt zu einer genussvollen Zeitreise in 
 das Entstehungsjahrzehnt der Kurparkgebäude: Youngtimer Automobile\,  Food
 trucks mit U.S.-Burgern von den Streetfood Truckers\,  Kaffeespezialitäten
  von Stefan Ziegler und Bauernhof-Eis von Familie Steffens sowie Kuchen und
  kalte Getränke am Liegehallen-Kiosk[..]\nhttps://schleswig-holstein.sh/bl
 og/veranstaltungen/1960s-revival-dream-cars-rockn-roll-food-trucks/
URL:https://schleswig-holstein.sh/blog/veranstaltungen/1960s-revival-dream-cars-rockn-roll-food-trucks/
END:VEVENT
END:VCALENDAR