BEGIN:VCALENDAR
VERSION:2.0
PRODID:-//eventon.com NONSGML v1.0//EN
CALSCALE:GREGORIAN
METHOD:PUBLISH
BEGIN:VEVENT
UID:69e74620d3fa4
DTSTAMP:20260421T094048Z
DTSTART:20250712T170000Z
DTEND:20250712T215900Z
LOCATION:Kleine Bühne Nordergraben 12\,  24937 Flensburg
SUMMARY:VERGISS ES
DESCRIPTION:Ein Neurowissenschaftler\,  getrieben von dem schmerzhaften Ver
 lust seiner großen Liebe\,  erschafft eine Künstliche Intelligenz in der 
 Hoffnung\,  sie zurück ins Leben zu holen. Dafür entwickelt er eine Masch
 ine\,  die scheinbar sinnlose Erinnerungen aus dem menschlichen Gedächtnis
  löscht. In Erwartung eines leichteren und unbeschwerten Lebens\,  lassen 
 sich immer mehr Menschen auf[..]\nhttps://schleswig-holstein.sh/blog/verans
 taltungen/vergiss-es/
URL:https://schleswig-holstein.sh/blog/veranstaltungen/vergiss-es/
END:VEVENT
END:VCALENDAR