BEGIN:VCALENDAR
VERSION:2.0
PRODID:-//eventon.com NONSGML v1.0//EN
CALSCALE:GREGORIAN
METHOD:PUBLISH
BEGIN:VEVENT
UID:69e74c221fe28
DTSTAMP:20260421T100626Z
DTSTART:20250712T140000Z
DTEND:20250712T200000Z
LOCATION:
SUMMARY:Niebüll: Muschelfest
DESCRIPTION:Leinen los zum Muschelfest 2025 Gemeinsam mit dem HGV Niebüll 
 lässt die Stadt Niebüll die Tradition wieder aufleben\,  etwas anders abe
 r genauso schön. Am 12. Juli von 16.00 – 22.00 Uhr gibt es auf dem Ratha
 usplatz frische Muscheln zu maritimer Musik mit viel Flair und Urlaubsstimm
 ung.\nhttps://schleswig-holstein.sh/blog/veranstaltungen/niebuell-muschelfe
 st/
URL:https://schleswig-holstein.sh/blog/veranstaltungen/niebuell-muschelfest/
END:VEVENT
END:VCALENDAR