BEGIN:VCALENDAR
VERSION:2.0
PRODID:-//eventon.com NONSGML v1.0//EN
CALSCALE:GREGORIAN
METHOD:PUBLISH
BEGIN:VEVENT
UID:69ed0eda54669
DTSTAMP:20260425T185834Z
DTSTART:20250816T100000Z
DTEND:20250817T150000Z
LOCATION:Speicher Husum Hafenstraße 17\,  25813 Husum
SUMMARY:Husum: "Salz & Seele" Kunstausstellung von Ute Schwambach und Kerstin Sager im Husumer Speicher
DESCRIPTION:Kerstin Sager und Ute Schwambach präsentieren Ihre Bildwelten\
 ,  die viel Atmosphäre und Leichtigkeit in sich tragen. Zwischen Ebbe und 
 Flut\,  Wind und Weite werden im historischen Speicher am Husumer Hafen die
  künstlerischen Arbeiten präsentiert. Freuen Sie sich auf sinnliche und v
 ielschichtige Kunstwerke sowie tolle Begegnungen und anregende Gespräche.\
 nhttps://schleswig-holstein.sh/blog/veranstaltungen/husum-salz-seele-kunsta
 usstellung-von-ute-schwambach-und-kerstin-sager-im-husumer-speicher/
URL:https://schleswig-holstein.sh/blog/veranstaltungen/husum-salz-seele-kunstausstellung-von-ute-schwambach-und-kerstin-sager-im-husumer-speicher/
END:VEVENT
END:VCALENDAR