BEGIN:VCALENDAR
VERSION:2.0
PRODID:-//eventon.com NONSGML v1.0//EN
CALSCALE:GREGORIAN
METHOD:PUBLISH
BEGIN:VEVENT
UID:69e737675437e
DTSTAMP:20260421T083759Z
DTSTART:20250906T170000Z
DTEND:20250906T170000Z
LOCATION:Theater Die Komödianten Wilhelminenstraße 43\,  24103 Kiel
SUMMARY:Die Vagina Monologe
DESCRIPTION:Ein Stück\,  das berührt\,  bewegt und befreit. Eve Ensler br
 ingt mit diesem bahnbrechenden Theaterstück die Geschichten von Frauen aus
  aller Welt auf die Bühne – ehrlich\,  provokant und voller Humor. Die V
 agina-Monologe gibt der weiblichen Stimme Raum\,  um von Intimität\,  Lust
 \,  Scham\,  Verletzlichkeit und Stärke zu erzählen. Basierend auf Interv
 iews[..]\nhttps://schleswig-holstein.sh/blog/veranstaltungen/die-vagina-mon
 ologe/var/ri-1.l-L1
URL:https://schleswig-holstein.sh/blog/veranstaltungen/die-vagina-monologe/var/ri-1.l-L1
END:VEVENT
END:VCALENDAR