BEGIN:VCALENDAR
VERSION:2.0
PRODID:-//eventon.com NONSGML v1.0//EN
CALSCALE:GREGORIAN
METHOD:PUBLISH
BEGIN:VEVENT
UID:69eb49c4b95f3
DTSTAMP:20260424T104524Z
DTSTART:20260322T230000Z
DTEND:20261030T230000Z
LOCATION:Ehemaliges WDR-Flaggenhäuschen Hafendeich 22\,  Wyk 25938\,  Deutschland\,  Wyk\,  Deutschland\,  Wyk\,  Deutschland
SUMMARY:Wyk: WUNDERKAMMER 5m²
DESCRIPTION:5m²-24h-EINBLICKE KUNST&#038;KULTUR AUF KLEINSTEM RAUM Die Wun
 derkammer auf Föhr. Auf 5m² zeigt sich ein vielfältiges Programm kreativ
 er Experimente Sehen kommt vor dem Sprechen. Hinschauen ist der Impuls\,  u
 m Kunst und Kultur wahrzunehmen und sich von ihr einnehmen und inspirieren 
 zu lassen. Durch das Sehen bestimmen wir unseren Platz in der[..]\nhttps://
 schleswig-holstein.sh/blog/veranstaltungen/5m%c2%b2-24h-einblicke/
URL:https://schleswig-holstein.sh/blog/veranstaltungen/5m%c2%b2-24h-einblicke/
END:VEVENT
END:VCALENDAR