BEGIN:VCALENDAR
VERSION:2.0
PRODID:-//eventon.com NONSGML v1.0//EN
CALSCALE:GREGORIAN
METHOD:PUBLISH
BEGIN:VEVENT
UID:69ecc247e6592
DTSTAMP:20260425T133151Z
DTSTART:20250908T160000Z
DTEND:20250908T183000Z
LOCATION:Muthesius Kunsthochschule Legienstraße 35\,  24103 Kiel
SUMMARY:Max Czollek: Lyriklesung & Gespräch mit Kelly Laubinger in Kiel
DESCRIPTION:Widerstand in der Heimat: Lesung und Gespräch mit Max Czollek 
 und Kelly Laubinger im Rahmen des Heimaten-Festivals in Kiel Im Rahmen des 
 Heimaten-Festivals 2025 lädt die Sinti Union Schleswig-Holstein in Koopera
 tion mit dem Haus der Kulturen der Welt zur Lesung mit Max Czollek und ansc
 hließendem Gespräch mit Kelly Laubinger ein.[..]\nhttps://schleswig-holst
 ein.sh/blog/veranstaltungen/max-czollek-lyriklesung-gespraech-mit-kelly-lau
 binger-in-kiel/
URL:https://schleswig-holstein.sh/blog/veranstaltungen/max-czollek-lyriklesung-gespraech-mit-kelly-laubinger-in-kiel/
END:VEVENT
END:VCALENDAR