BEGIN:VCALENDAR
VERSION:2.0
PRODID:-//eventon.com NONSGML v1.0//EN
CALSCALE:GREGORIAN
METHOD:PUBLISH
BEGIN:VEVENT
UID:69e78a9f068d1
DTSTAMP:20260421T143303Z
DTSTART:20250928
DTEND:20250929
LOCATION:Bismarck-Museum Friedrichsruh Am Museum 2\,  21521 Friedrichsruh
SUMMARY:Friedrichsruh: Volkes Stimme! Parlamentarismus und demokratische Kultur im Deutschen Kaiserreich
DESCRIPTION:Die Otto-von-Bismarck-Stiftung zeigt vom 28. September 2025 bis
  zum 12. April 2026 im Bismarck-Museum Friedrichsruh die Sonderausstellung 
 „Volkes Stimme! Parlamentarismus und demokratische Kultur im Deutschen Ka
 iserreich“. Erzählt wird die Geschichte der repräsentativen Demokratie 
 in Deutschland von den mittelalterlichen Ständevertretungen bis in die Geg
 enwart. Dieser Entwicklungsprozess war von Reformen und Revolutionen[..]\nh
 ttps://schleswig-holstein.sh/blog/veranstaltungen/friedrichsruh-volkes-stim
 me-parlamentarismus-und-demokratische-kultur-im-deutschen-kaiserreich/
URL:https://schleswig-holstein.sh/blog/veranstaltungen/friedrichsruh-volkes-stimme-parlamentarismus-und-demokratische-kultur-im-deutschen-kaiserreich/
END:VEVENT
END:VCALENDAR