BEGIN:VCALENDAR
VERSION:2.0
PRODID:-//eventon.com NONSGML v1.0//EN
CALSCALE:GREGORIAN
METHOD:PUBLISH
BEGIN:VEVENT
UID:69e789cb340cc
DTSTAMP:20260421T142931Z
DTSTART:20250918T160000Z
DTEND:20251023T160000Z
LOCATION:Torhaus Probstendamm\,  25335 Elmshorn
SUMMARY:Ausstellung "Filmstars und Mode" mit Werken des renommierten Fotografen F.C. Gundlach im Torhaus Elmshorn
DESCRIPTION:Der Kunstverein Elmshorn prĂ¤sentiert in Kooperation mit der BĂ
 Ľrgerstiftung Elmshorn vom 18. September bis 23. Oktober 2025 die Ausstellu
 ng â€žFilmstars und Modeâ€ś mit Werken des renommierten Fotografen F.C. Gun
 dlach. Das Torhaus Elmshorn wird in dieser Zeit zur BĂĽhne fĂĽr Ikonen der 
 Mode- und Filmwelt â€“ eine Ausstellung\,  die aus dem[..]\nhttps://schlesw
 ig-holstein.sh/blog/veranstaltungen/ausstellung-filmstars-und-mode-mit-werk
 en-des-renommierten-fotografen-f-c-gundlach-im-torhaus-elmshorn/
URL:https://schleswig-holstein.sh/blog/veranstaltungen/ausstellung-filmstars-und-mode-mit-werken-des-renommierten-fotografen-f-c-gundlach-im-torhaus-elmshorn/
END:VEVENT
END:VCALENDAR