BEGIN:VCALENDAR
VERSION:2.0
PRODID:-//eventon.com NONSGML v1.0//EN
CALSCALE:GREGORIAN
METHOD:PUBLISH
BEGIN:VEVENT
UID:69e74bd91e5c9
DTSTAMP:20260421T100513Z
DTSTART:20251012T100000Z
DTEND:20251012T150000Z
LOCATION:Kunstverein Lunden Am Gehölz 15\,  25774 Lunden
SUMMARY:Kohl / kål / 양배추
DESCRIPTION:Die Künstlerinnen Susanne Irene Fjørtoft (Norwegen)\,  Marit 
 Tunestveit Dyre (Norwegen)\,  Kuyja Bae (Südkorea / Norwegen) und Frauke M
 aterlik (Lunden) haben bereits in Südkorea und Norwegen zusammen gearbeite
 t. Nun zeigen sie in Dithmarschen ihre Performances\,  die in Bezug zur Lan
 dschaft und ihren vielfältigen Veränderung durch zeitliche Faktoren und m
 enschliche Einflüsse entstehen.[..]\nhttps://schleswig-holstein.sh/blog/ve
 ranstaltungen/kohl-kal-%ec%96%91%eb%b0%b0%ec%b6%94/
URL:https://schleswig-holstein.sh/blog/veranstaltungen/kohl-kal-%ec%96%91%eb%b0%b0%ec%b6%94/
END:VEVENT
END:VCALENDAR