BEGIN:VCALENDAR
VERSION:2.0
PRODID:-//eventon.com NONSGML v1.0//EN
CALSCALE:GREGORIAN
METHOD:PUBLISH
BEGIN:VEVENT
UID:69e789c59462e
DTSTAMP:20260421T142925Z
DTSTART:20260114T130000Z
DTEND:20261216T170000Z
LOCATION:Galerie RIECK Carlshöhe Carlshöhe 78 | 24340 Eckerförde
SUMMARY:Zeitgenössisches trifft Klassische Moderne
DESCRIPTION:Galerie RIECK zeigt auf der Carlshöhe in Eckernförde die Kuns
 t des Nordens der letzten 100 Jahre – angefangen bei den Bornholm-Künstl
 er:innen\,  über die dänischen Modernist:innen bis zu bekannten Vertreter
 :innen der nordischen Moderne. Im Fokus stehen ausgewählte Arbeiten renomm
 ierter Künstler:innen wie Olaf Rude\,  Kehnet Nielsen\,  Elke Hergert\,  P
 eter Skovgaard oder Menno[..]\nhttps://schleswig-holstein.sh/blog/veranstal
 tungen/zeitgenoessisches-trifft-klassische-moderne/
URL:https://schleswig-holstein.sh/blog/veranstaltungen/zeitgenoessisches-trifft-klassische-moderne/
END:VEVENT
END:VCALENDAR