BEGIN:VCALENDAR
VERSION:2.0
PRODID:-//eventon.com NONSGML v1.0//EN
CALSCALE:GREGORIAN
METHOD:PUBLISH
BEGIN:VEVENT
UID:69ecf03b2e8e4
DTSTAMP:20260425T164755Z
DTSTART:20250918T163000Z
DTEND:20250918T183000Z
LOCATION:Kleiner Kobel Calvinstraße 20\,  Kiel 24114\,  DE
SUMMARY:Release Lesung: Der Schnipsel 25
DESCRIPTION:Folgende Autor:innen werden mit dabei sein: • Maria Babusch 
 Lindenburgliste« • Ingrid Glienke »Wollongong Surfcam« • Josefa Ram
 írez Sánchez »Costillas« • Toi Taurorus »Schmerzhafte Mutter von Kal
 k« • Libert Bucher »Islandfeelings« Ab 20:30 Uhr hat der Kleine Kobel 
 dann wieder für den normalen Betrieb geöffnet 🍻 🗓️ 18.09. ⏰ 18:
 30[..]\nhttps://schleswig-holstein.sh/blog/veranstaltungen/release-lesung-d
 er-schnipsel-25/
URL:https://schleswig-holstein.sh/blog/veranstaltungen/release-lesung-der-schnipsel-25/
END:VEVENT
END:VCALENDAR