BEGIN:VCALENDAR
VERSION:2.0
PRODID:-//eventon.com NONSGML v1.0//EN
CALSCALE:GREGORIAN
METHOD:PUBLISH
BEGIN:VEVENT
UID:69e733b5ba88b
DTSTAMP:20260421T082213Z
DTSTART:20251101T140000Z
DTEND:20251101T160000Z
LOCATION:Künstlerhaus Lauenburg Elbstrasse 54\,  21481 Lauenburg
SUMMARY:Lauenburg: Finnisage - Abschlusspräsentation der Stipendiat:innen 2025
DESCRIPTION:Offener Austausch mit den Stipendiat:innen aus zwei Generatione
 n. Wie erleben und nutzen die aktuellen Stipendiat:innen die 4-monatige Arb
 eitsphase im Künstler:innenhaus Lauenburg? Was kommt danach? Wie schaut ma
 n ein Jahr später auf das Stipendium zurück? Im Rahmen der Finissage werd
 en auch die Einzelkataloge der Stipendiat:innen 2024 vorgestellt.\nhttps://
 schleswig-holstein.sh/blog/veranstaltungen/lauenburg-finnisage-abschlusspra
 esentation-der-stipendiatinnen-2025/
URL:https://schleswig-holstein.sh/blog/veranstaltungen/lauenburg-finnisage-abschlusspraesentation-der-stipendiatinnen-2025/
END:VEVENT
END:VCALENDAR