BEGIN:VCALENDAR
VERSION:2.0
PRODID:-//eventon.com NONSGML v1.0//EN
CALSCALE:GREGORIAN
METHOD:PUBLISH
BEGIN:VEVENT
UID:69e773b76b848
DTSTAMP:20260421T125519Z
DTSTART:20251005T133000Z
DTEND:20251005T143000Z
LOCATION:Stadtmuseum Warleberger Hof Dänische Straße 19\,  24103 Kiel
SUMMARY:Sonntagsführungen durch die Ausstellung "Kiel festhalten. Stadtansichten von Gretel Riemann“
DESCRIPTION:„Ich halte fest\,  was eines Tages der Vergangenheit angehör
 t: Häuser und Plätze\,  die einst mit Leben erfüllt waren.“ Bilder von
  Kiel stehen im Mittelpunkt des künstlerischen Schaffens von Gretel Rieman
 n (1924-2012). Die in Kiel geborene Künstlerin verfolgte seit den 1970er J
 ahren den Wandel ihrer Heimatstadt. Mit sicherem Gespür für die[..]\nhttp
 s://schleswig-holstein.sh/blog/veranstaltungen/sonntagsfuehrungen-durch-die
 -ausstellung-kiel-festhalten-stadtansichten-von-gretel-riemann/
URL:https://schleswig-holstein.sh/blog/veranstaltungen/sonntagsfuehrungen-durch-die-ausstellung-kiel-festhalten-stadtansichten-von-gretel-riemann/
END:VEVENT
END:VCALENDAR