BEGIN:VCALENDAR
VERSION:2.0
PRODID:-//eventon.com NONSGML v1.0//EN
CALSCALE:GREGORIAN
METHOD:PUBLISH
BEGIN:VEVENT
UID:69ecc2d3e39a2
DTSTAMP:20260425T133411Z
DTSTART:20251012T090000Z
DTEND:20251012T110000Z
LOCATION:Kreismuseum Prinzeßhof Kirchenstr. 20\,  Itzehoe\,  Schleswig-Holstein 25524\,  Itzehoe\,  Itzehoe\,  Schleswig-Holstein\,  Itzehoe
SUMMARY:Eröffnung »80 Jahre Künstlerbund Steinburg – im Dialog mit Kunstwerken des Kreismuseums Prinzeßhof«
DESCRIPTION:80 Jahre Künstlerbund Steinburg – Im Dialog mit Kunstwerken 
 des Kreismuseums Prinzeßhof Sonntag\,  12. Oktober 2025 um 11:00 Uhr Kreis
 museum Prinzeßhof\,  Itzehoe Grußwort Inken Carstensen-Herold 2. stellv. 
 Kreispräsidentin Janina Arlt und Esther Wrobbel 1. Vorsitzende des Künstl
 erbundes Steinburg Museumsleitung Kreismuseum Prinzeßhof Erinnerungen an d
 en Künstlerbund Steinburg – seit 1957 Hans-Peter[..]\nhttps://schleswig-
 holstein.sh/blog/veranstaltungen/eroeffnung-80-jahre-kuenstlerbund-steinbur
 g-im-dialog-mit-kunstwerken-des-kreismuseums-prinzesshof/
URL:https://schleswig-holstein.sh/blog/veranstaltungen/eroeffnung-80-jahre-kuenstlerbund-steinburg-im-dialog-mit-kunstwerken-des-kreismuseums-prinzesshof/
END:VEVENT
END:VCALENDAR