BEGIN:VCALENDAR
VERSION:2.0
PRODID:-//eventon.com NONSGML v1.0//EN
CALSCALE:GREGORIAN
METHOD:PUBLISH
BEGIN:VEVENT
UID:69e66b7c510b7
DTSTAMP:20260420T180756Z
DTSTART:20251025T123000Z
DTEND:20251025T140000Z
LOCATION:Kreismuseum Prinzeßhof Kirchenstr. 20\,  Itzehoe\,  Schleswig-Holstein 25524\,  Itzehoe
SUMMARY:»Eine künstlerische Reise zu mir selbst«
DESCRIPTION:»Eine künstlerische Reise zu mir selbst« – Collage Worksho
 p mit Andrea Jünger für alle Selbstforschenden ab 14 Jahren im Kreismuseu
 m Prinzeßhof. Dauer 2\, 5 Stunden\,  Kosten 24 € Anmeldung zu Führungen
  und Workshops über prinzesshof@steinburg.de.\nhttps://schleswig-holstein.
 sh/blog/veranstaltungen/eine-kuenstlerische-reise-zu-mir-selbst/
URL:https://schleswig-holstein.sh/blog/veranstaltungen/eine-kuenstlerische-reise-zu-mir-selbst/
END:VEVENT
END:VCALENDAR