BEGIN:VCALENDAR
VERSION:2.0
PRODID:-//eventon.com NONSGML v1.0//EN
CALSCALE:GREGORIAN
METHOD:PUBLISH
BEGIN:VEVENT
UID:69ecc27c11f1d
DTSTAMP:20260425T133244Z
DTSTART:20251006T100000Z
DTEND:20251019T100000Z
LOCATION:Galerie Tiinerbuud 33 in der Hummerbude PARADOX Hafenstraße 1009\,  27491 Helgoland
SUMMARY:Helgoland Galerie Tiinerbuud 33: Bärbel Schulz
DESCRIPTION:Als inzwischen ständiger Oktobergast wird die Kalligraphin Bä
 rbel Schulz aus Waldbrunn/Odenwald vom 6. bis 19. Oktober 2025 in der Galer
 ie Tiinerbuud 33 auf Helgoland mit ihren filigranen Arbeiten vertreten sein
 . Nicht nur mit Feder und Tinte\,  auch mit ungewöhnlichen Schreibinstrume
 nten wie z.B. selbstgefertigten Faltfedern aus Getränkedosen bringt sie ih
 re experimentell[..]\nhttps://schleswig-holstein.sh/blog/veranstaltungen/he
 lgoland-galerie-tiinerbuud-33-baerbel-schulz/
URL:https://schleswig-holstein.sh/blog/veranstaltungen/helgoland-galerie-tiinerbuud-33-baerbel-schulz/
END:VEVENT
END:VCALENDAR