BEGIN:VCALENDAR
VERSION:2.0
PRODID:-//eventon.com NONSGML v1.0//EN
CALSCALE:GREGORIAN
METHOD:PUBLISH
BEGIN:VEVENT
UID:69ecdfae7ba0c
DTSTAMP:20260425T153718Z
DTSTART:20251008T180000Z
DTEND:20251008T193000Z
LOCATION:https://www.theatershortvivant.de/spielzeit-2025.html
SUMMARY:Theaterstream: Ausgebrütet - Tragische Komödie mit weltweitem Schauspiel-/Ballett-Ensemble
DESCRIPTION:Theaterstream: Weltweit in deutscher Sprache (auch mit englisch
 en Untertiteln verfügbar) abrufbar. Ganz einfach von Ihrem Smart-TV\,  int
 ernetfähigem Laptop\,  Desktop\,  Smartphone u.a. zu einem festen Termin (
 am Veranstaltungstag um Punkt 20.00 Uhr) abrufbar. Ticket für nur 5 EUR ab
 rufbar per E-Mail: info@theatershortvivant.de Sie erhalten dann den Zugangs
 link nebst Hinweisen. Inhalt: „Familie[..]\nhttps://schleswig-holstein.sh
 /blog/veranstaltungen/theaterstream-ausgebruetet-tragische-komoedie-mit-wel
 tweitem-schauspiel-ballett-ensemble/var/event_access
URL:https://schleswig-holstein.sh/blog/veranstaltungen/theaterstream-ausgebruetet-tragische-komoedie-mit-weltweitem-schauspiel-ballett-ensemble/var/event_access
END:VEVENT
END:VCALENDAR