BEGIN:VCALENDAR
VERSION:2.0
PRODID:-//eventon.com NONSGML v1.0//EN
CALSCALE:GREGORIAN
METHOD:PUBLISH
BEGIN:VEVENT
UID:69ecc1e0e7fc2
DTSTAMP:20260425T133008Z
DTSTART:20251109T100000Z
DTEND:20251109T120000Z
LOCATION:Slesvighus Lollfuß 89\,  Schleswig\,  Schleswig-Holstein 24837\,  Deutschland
SUMMARY:Ein Podium für die Zukunft
DESCRIPTION:Die Musikschulen in Schleswig-Holstein haben mit dem Schleswig-
 Holsteinischen Landestheater eine weitgehende Kooperation vereinbart\,  die
  auch in dieser Spielzeit fortgeführt wird: EIN PODIUM FÜR DIE ZUKUNFT bi
 etet talentierten jugendlichen Musikerinnen und Musikern ein öffentliches 
 Forum mit Auftrittsmöglichkeiten in den Häusern des Landestheaters. Es sp
 ielen Schülerinnen und Schüler u. a. der Musikschulen[..]\nhttps://schles
 wig-holstein.sh/blog/veranstaltungen/ein-podium-fuer-die-zukunft-2/
URL:https://schleswig-holstein.sh/blog/veranstaltungen/ein-podium-fuer-die-zukunft-2/
END:VEVENT
END:VCALENDAR