BEGIN:VCALENDAR
VERSION:2.0
PRODID:-//eventon.com NONSGML v1.0//EN
CALSCALE:GREGORIAN
METHOD:PUBLISH
BEGIN:VEVENT
UID:69e624d603041
DTSTAMP:20260420T130630Z
DTSTART:20260207T180000Z
DTEND:20260207T190000Z
LOCATION:Theater Die Komödianten Wilhelminenstraße 43\,  24103 Kiel
SUMMARY:Anne-Marie die Schönheit
DESCRIPTION:Theaterdirektor Markus Dentler spielt „Anne-Marie die Schönh
 eit“ von Yasmina Reza\,  das Stück\,  welches zurzeit bundesweit\,  von 
 Berlin bis München\,  für Furore sorgt. Yasmina Reza zeichnet in ihrem 20
 20 erschienenen Stück „Anne-Marie die Schönheit“ das Porträt einer a
 lternden Schauspielerin der Pariser Vorstadt und lässt dabei eine „beina
 he-Diva“\,  die unzulänglich beachtete Kleindarstellerin[..]\nhttps://sc
 hleswig-holstein.sh/blog/veranstaltungen/anne-marie-die-schoenheit/var/ri-1
 1.l-L1
URL:https://schleswig-holstein.sh/blog/veranstaltungen/anne-marie-die-schoenheit/var/ri-11.l-L1
END:VEVENT
END:VCALENDAR