BEGIN:VCALENDAR
VERSION:2.0
PRODID:-//eventon.com NONSGML v1.0//EN
CALSCALE:GREGORIAN
METHOD:PUBLISH
BEGIN:VEVENT
UID:69e7657832e47
DTSTAMP:20260421T115432Z
DTSTART:20251028T202600Z
DTEND:20251028T202600Z
LOCATION:ARTLER Kunstkollektiv Große Burgstraße 32\,  Lübeck\,  Schleswig-Holstein 23552\,  Deutschland\,  Lübeck\,  Schleswig-Holstein\,  Deutschland\,  Lübeck\,  Schleswig-Holstein\,  Deutschland
SUMMARY:Ausstellung IM JAHR DER SCHLANGE – Bettina B. Matern\,  Ruth Bleakley-Thiessen\,  ARTLER Kunstkollektiv\,  Lübeck\,  Große Burgstraße 32
DESCRIPTION:Verführung\,  Verwandlung\,  in eine andere Haut schlüpfen\, 
  sich häuten und neu erfinden. Ästhetisch\,  humorvoll und hintergründig
  setzen sich die beiden Künstlerinnen mit dem Thema SCHLANGE auseinander.\
 nhttps://schleswig-holstein.sh/blog/veranstaltungen/ausstellung-im-jahr-der
 -schlange-bettina-b-matern-ruth-bleakley-thiessen-artler-kunstkollektiv-lue
 beck-grosse-burgstrasse-32/
URL:https://schleswig-holstein.sh/blog/veranstaltungen/ausstellung-im-jahr-der-schlange-bettina-b-matern-ruth-bleakley-thiessen-artler-kunstkollektiv-luebeck-grosse-burgstrasse-32/
END:VEVENT
END:VCALENDAR