BEGIN:VCALENDAR
VERSION:2.0
PRODID:-//eventon.com NONSGML v1.0//EN
CALSCALE:GREGORIAN
METHOD:PUBLISH
BEGIN:VEVENT
UID:69ecad6944a27
DTSTAMP:20260425T120249Z
DTSTART:20251108T160000Z
DTEND:20251129T170000Z
LOCATION:ARTLER Kunstkollektiv Große Burgstraße 32\,  Lübeck\,  Schleswig-Holstein 23552\,  Deutschland\,  Lübeck\,  Schleswig-Holstein\,  Deutschland\,  Lübeck\,  Schleswig-Holstein\,  Deutschland
SUMMARY:Ausstellung IM JAHR DER SCHLANGE
DESCRIPTION:Verführung\,  Verwandlung\,  in eine andere Haut schlüpfen\, 
  sich häuten und neu erfinden. Ästhetisch\,  humorvoll und hintergründig
  setzen sich die beiden Künstlerinnen mit dem Thema Schlange auseinander. 
 Elisa B Matern (Elisabee) erkundet in Objekten\,  Collage-Drucken und farbe
 nfrohen Acrylbildern die Welt der Verführung und Wandlung mit und ohne bib
 lischen Hintergrund. Am &#8218;Schicksalsrad[..]\nhttps://schleswig-holstei
 n.sh/blog/veranstaltungen/ausstellung-im-jahr-der-schlange/
URL:https://schleswig-holstein.sh/blog/veranstaltungen/ausstellung-im-jahr-der-schlange/
END:VEVENT
END:VCALENDAR