BEGIN:VCALENDAR
VERSION:2.0
PRODID:-//eventon.com NONSGML v1.0//EN
CALSCALE:GREGORIAN
METHOD:PUBLISH
BEGIN:VEVENT
UID:69ecc3d33eec8
DTSTAMP:20260425T133827Z
DTSTART:20251113T190000Z
DTEND:20251113T203000Z
LOCATION:https://www.theatershortvivant.de/spielzeit-2025.html
SUMMARY:Theaterstream: Ausgebrütet - Tragische Komödie mit weltweitem Ballett- und Schauspielensemble
DESCRIPTION:Theaterstream: Weltweit in deutscher Sprache (auch mit englisch
 en Untertiteln verfügbar) abrufbar. Ganz einfach von Ihrem Smart-TV\,  int
 ernetfähigem Laptop\,  Desktop\,  Smartphone u.a. zu einem festen Termin (
 am Veranstaltungstag um Punkt 20.00 Uhr) abrufbar. Ticket für nur 5 EUR ab
 rufbar per E-Mail: info@theatershortvivant.de Sie erhalten dann den Zugangs
 link nebst Hinweisen. Inhalt: „Familie[..]\nhttps://schleswig-holstein.sh
 /blog/veranstaltungen/theaterstream-ausgebruetet-tragische-komoedie-mit-wel
 tweitem-ballett-und-schauspielensemble/var/event_access
URL:https://schleswig-holstein.sh/blog/veranstaltungen/theaterstream-ausgebruetet-tragische-komoedie-mit-weltweitem-ballett-und-schauspielensemble/var/event_access
END:VEVENT
END:VCALENDAR