BEGIN:VCALENDAR
VERSION:2.0
PRODID:-//eventon.com NONSGML v1.0//EN
CALSCALE:GREGORIAN
METHOD:PUBLISH
BEGIN:VEVENT
UID:69e773c6014e4
DTSTAMP:20260421T125534Z
DTSTART:20251221T130000Z
DTEND:20251221T160000Z
LOCATION:Begegnungsstätte Husby Flensburger Str. 33\,  24975 Husby
SUMMARY:Digitale Schnitzeljagd in Husby
DESCRIPTION:In Husby startet ein spannendes digitales Mitmach-Projekt: Eine
  digitale Schnitzeljagd führt Interessierte quer durchs Dorf und macht die
  17 Ziele für nachhaltige Entwicklung auf spielerische Weise erlebbar. Die
 ses Projekt wurde mit Unterstützung der Deutschen Stiftung für Engagement
  und Ehrenamt (DSEE) entwickelt und richtet sich an alle\,  die Lust haben\
 ,  Neues[..]\nhttps://schleswig-holstein.sh/blog/veranstaltungen/digitale-s
 chnitzeljagd-zu-den-17-zielen-in-husby-entdecken/
URL:https://schleswig-holstein.sh/blog/veranstaltungen/digitale-schnitzeljagd-zu-den-17-zielen-in-husby-entdecken/
END:VEVENT
END:VCALENDAR