BEGIN:VCALENDAR
VERSION:2.0
PRODID:-//eventon.com NONSGML v1.0//EN
CALSCALE:GREGORIAN
METHOD:PUBLISH
BEGIN:VEVENT
UID:69e78f27cb945
DTSTAMP:20260421T145223Z
DTSTART:20251214T090000Z
DTEND:20251214T160000Z
LOCATION:Gut Wahlstorf 24211 Wahlstorf bei Preetz\,  Gut Wahlstorf
SUMMARY:Wahlstorf: PLATTDEUTSCHES KRIPPENSPIEL
DESCRIPTION:PLATTDEUTSCHES KRIPPENSPIEL mit Adventsmarkt Dargestellt von Mi
 tgliedern der Gemeinde Wahlstorf und dem Kinderchor Grundschule Trent. Vorf
 ührungen um 11\,  13 und 15 Uhr. Mit der Wiederaufnahme des plattdeutschen
  Krippenspiels der Gemeinde Wahlstorf im vergangenen Jahr\,  kehrte der Kla
 ssiker „op Platt” nach mehrjähriger Pause zurück an einen neuen Auff
 hrungsort – der Weizenscheune[..]\nhttps://schleswig-holstein.sh/blog/ve
 ranstaltungen/wahlstorf-plattdeutsches-krippenspiel-2/
URL:https://schleswig-holstein.sh/blog/veranstaltungen/wahlstorf-plattdeutsches-krippenspiel-2/
END:VEVENT
END:VCALENDAR