BEGIN:VCALENDAR
VERSION:2.0
PRODID:-//eventon.com NONSGML v1.0//EN
CALSCALE:GREGORIAN
METHOD:PUBLISH
BEGIN:VEVENT
UID:69e772d2d1003
DTSTAMP:20260421T125130Z
DTSTART:20260101T170000Z
DTEND:20260101T090000Z
LOCATION:
SUMMARY:Neujahrskonzert
DESCRIPTION:Was mag das neue Jahr wohl für uns bereithalten? Da ist der J
 ahresbeginn ein guter Augenblick\,  für einen Moment unseren Träumen und
  Wünschen nachzugehen. Sergi Roca Bru zieht es zusammen mit dem Schleswig
 -Holsteinischen Sinfonieorchester und der Sopranistin Anna Avdalyan an exot
 ische Orte und in unbekannte Welten. Kommen Sie mit\,  und[..]\nhttps://sch
 leswig-holstein.sh/blog/veranstaltungen/neujahrskonzert-2/
URL:https://schleswig-holstein.sh/blog/veranstaltungen/neujahrskonzert-2/
END:VEVENT
END:VCALENDAR