BEGIN:VCALENDAR
VERSION:2.0
PRODID:-//eventon.com NONSGML v1.0//EN
CALSCALE:GREGORIAN
METHOD:PUBLISH
BEGIN:VEVENT
UID:69e773ef2cbef
DTSTAMP:20260421T125615Z
DTSTART:20260104T170000Z
DTEND:20260103T230000Z
LOCATION:
SUMMARY:Neujahrskonzert
DESCRIPTION:Was mag das neue Jahr wohl für uns bereithalten? Da ist der J
 ahresbeginn ein guter Augenblick\,  für einen Moment unseren Träumen und
  Wünschen nachzugehen. Sergi Roca Bru zieht es zusammen mit dem Schleswig
 -Holsteinischen Sinfonieorchester und der Sopranistin Anna Avdalyan an exot
 ische Orte und in unbekannte Welten. Kommen Sie mit\,  und[..]\nhttps://sch
 leswig-holstein.sh/blog/veranstaltungen/neujahrskonzert-2/var/ri-2.l-L1
URL:https://schleswig-holstein.sh/blog/veranstaltungen/neujahrskonzert-2/var/ri-2.l-L1
END:VEVENT
END:VCALENDAR