BEGIN:VCALENDAR
VERSION:2.0
PRODID:-//eventon.com NONSGML v1.0//EN
CALSCALE:GREGORIAN
METHOD:PUBLISH
BEGIN:VEVENT
UID:69e624845a71a
DTSTAMP:20260420T130508Z
DTSTART:20260115T183000Z
DTEND:20260115T100000Z
LOCATION:
SUMMARY:Die Schneekönigin
DESCRIPTION:„Spannend\,  spannend\,  spannend!&#8220; (Schleswig-Holstein
 ische Landeszeitung) Kay und Gerda sind unzertrennliche Freunde. Eines Tage
 s gelangt jedoch ein Splitter in Kays Auge. Dieser Splitter ist aus einem Z
 auberspiegel gebrochen\,  durch den man nur noch die schlechten Dinge auf d
 er Welt wahrnehmen kann. Nicht mehr zu Freude und Mitgefühl fähig\,  begi
 bt sich Kay[..]\nhttps://schleswig-holstein.sh/blog/veranstaltungen/die-sch
 neekoenigin-2/
URL:https://schleswig-holstein.sh/blog/veranstaltungen/die-schneekoenigin-2/
END:VEVENT
END:VCALENDAR