BEGIN:VCALENDAR
VERSION:2.0
PRODID:-//eventon.com NONSGML v1.0//EN
CALSCALE:GREGORIAN
METHOD:PUBLISH
BEGIN:VEVENT
UID:69e75f48512d5
DTSTAMP:20260421T112808Z
DTSTART:20260314T180000Z
DTEND:20260313T230000Z
LOCATION:
SUMMARY:Die Schneekönigin
DESCRIPTION:„Spannend\,  spannend\,  spannend!&#8220; (Schleswig-Holstein
 ische Landeszeitung) Kay und Gerda sind unzertrennliche Freunde. Eines Tage
 s gelangt jedoch ein Splitter in Kays Auge. Dieser Splitter ist aus einem Z
 auberspiegel gebrochen\,  durch den man nur noch die schlechten Dinge auf d
 er Welt wahrnehmen kann. Nicht mehr zu Freude und Mitgefühl fähig\,  begi
 bt sich Kay[..]\nhttps://schleswig-holstein.sh/blog/veranstaltungen/die-sch
 neekoenigin-2/var/ri-4.l-L1
URL:https://schleswig-holstein.sh/blog/veranstaltungen/die-schneekoenigin-2/var/ri-4.l-L1
END:VEVENT
END:VCALENDAR