BEGIN:VCALENDAR
VERSION:2.0
PRODID:-//eventon.com NONSGML v1.0//EN
CALSCALE:GREGORIAN
METHOD:PUBLISH
BEGIN:VEVENT
UID:69eb33c1adb53
DTSTAMP:20260424T091129Z
DTSTART:20260117T180000Z
DTEND:20260117T110000Z
LOCATION:
SUMMARY:Stark!
DESCRIPTION:Während Dora Pejačević zu ihren Lebzeiten als Komponistin Au
 fsehen erregte\,  ist sie heute weitgehend in Vergessenheit geraten. Höchs
 te Zeit\,  ihr einen Abend in der Reihe STARK! zu widmen. 1885 als Tochter 
 einer alten slawonischen Adelsfamilie geboren\,  wurde sie musikalisch frü
 h gefördert\,  und ihre Werke\,  die mit großem Erfolg in den[..]\nhttps:
 //schleswig-holstein.sh/blog/veranstaltungen/stark/
URL:https://schleswig-holstein.sh/blog/veranstaltungen/stark/
END:VEVENT
END:VCALENDAR