BEGIN:VCALENDAR
VERSION:2.0
PRODID:-//eventon.com NONSGML v1.0//EN
CALSCALE:GREGORIAN
METHOD:PUBLISH
BEGIN:VEVENT
UID:69e63d99c4b2b
DTSTAMP:20260420T145209Z
DTSTART:20260220
DTEND:20260221
LOCATION:Schuppen 6 An der Untertrave 47A\,  23552 Lübeck
SUMMARY:Lübecker Kindertobetage 2026
DESCRIPTION:Lübecker Kindertobetage 2026 – Das Mega-Event für kleine Ab
 enteurer! 20. – 22. Februar 2026 📍 Schuppen 6 Lübeck Die Lübecker K
 indertobetage kommen erneut nach Lübeck – und bringen jede Menge Spaß\,
   Action und unvergessliche Erlebnisse mit! Drei Tage voller Bewegung\,  Sp
 iel und Staunen warten auf euch und eure Familie. Freut euch[..]\nhttps://s
 chleswig-holstein.sh/blog/veranstaltungen/luebecker-kindertobetage-2026-fam
 ilienevent-in-luebeck/
URL:https://schleswig-holstein.sh/blog/veranstaltungen/luebecker-kindertobetage-2026-familienevent-in-luebeck/
END:VEVENT
END:VCALENDAR