BEGIN:VCALENDAR
VERSION:2.0
PRODID:-//eventon.com NONSGML v1.0//EN
CALSCALE:GREGORIAN
METHOD:PUBLISH
BEGIN:VEVENT
UID:69e7a14b43e3c
DTSTAMP:20260421T160947Z
DTSTART:20260207T130000Z
DTEND:20260207T170000Z
LOCATION:Künstlerhaus Lauenburg Elbstrasse 54\,  21481 Lauenburg
SUMMARY:Lauenburg: Druck Workshop – Jahreszeitenkalender mit Juan Blanco
DESCRIPTION:Der 2-tägige Druckworkshop mit dem Künstler und ehemaligen St
 ipendiaten Juan Blanco bietet eine praxisnahe Einführung in die Technik de
 s Hochdrucks. Mittels Linolschnitt entsteht ein handgedruckter Jahreszeiten
 kalender\,  der gemeinsam gestaltet wird. Der Kalender besteht aus – vi
 er Quartalsblättern – einem von Juan Blanco gedruckten Deckblatt –
  einem Impressum Alle Teilnehmer:innen erhalten am Ende des[..]\nhttps://sc
 hleswig-holstein.sh/blog/veranstaltungen/lauenburg-druck-workshop-jahreszei
 tenkalender-mit-juan-blanco/
URL:https://schleswig-holstein.sh/blog/veranstaltungen/lauenburg-druck-workshop-jahreszeitenkalender-mit-juan-blanco/
END:VEVENT
END:VCALENDAR