BEGIN:VCALENDAR
VERSION:2.0
PRODID:-//eventon.com NONSGML v1.0//EN
CALSCALE:GREGORIAN
METHOD:PUBLISH
BEGIN:VEVENT
UID:69e78ab2cb092
DTSTAMP:20260421T143322Z
DTSTART:20260221T100000Z
DTEND:20260221T130000Z
LOCATION:Galerie 11\,  Itzehoe Breitenburger Straße 1\,  25524 Itzehoe
SUMMARY:OUT OF THE BLUE
DESCRIPTION:Zum ersten Mal zeigt die Galerie 11 in Itzehoe die meist großf
 ormatigen Bilder von Jana Jacob in einer Soloschau. Woher kommen die Motive
  in Jana Jacobs Bildern? Sie sagt: „Da\,  wo die Realität durch einen fl
 üchtigen\,  traumähnlichen Zustand geht. Dort\,  wo Menschen das Gefühl 
 haben\,  sich zu erkennen.“ Out of[..]\nhttps://schleswig-holstein.sh/blo
 g/veranstaltungen/out-of-the-blue/var/ri-1.l-L1
URL:https://schleswig-holstein.sh/blog/veranstaltungen/out-of-the-blue/var/ri-1.l-L1
END:VEVENT
END:VCALENDAR