BEGIN:VCALENDAR
VERSION:2.0
PRODID:-//eventon.com NONSGML v1.0//EN
CALSCALE:GREGORIAN
METHOD:PUBLISH
BEGIN:VEVENT
UID:69e748c54e4bb
DTSTAMP:20260421T095205Z
DTSTART:20260314T120000Z
DTEND:20260314T130000Z
LOCATION:Galerie 11\,  Itzehoe Breitenburger Straße 1\,  25524 Itzehoe
SUMMARY:OUT OF THE BLUE - Finissage
DESCRIPTION:Woher kommen die Motive in Jana Jacobs Bildern? Sie sagt: „Da
 \,  wo die Realität durch einen flüchtigen\,  traumähnlichen Zustand geh
 t. Dort\,  wo Menschen das Gefühl haben\,  sich zu erkennen.“ Out of the
  Blue (deutsch: aus heiterem Himmel) verweist auf dieses Spiel mit dem Uner
 warteten\,  das den Geist frisch hält und[..]\nhttps://schleswig-holstein.
 sh/blog/veranstaltungen/out-of-the-blue-finissage/
URL:https://schleswig-holstein.sh/blog/veranstaltungen/out-of-the-blue-finissage/
END:VEVENT
END:VCALENDAR