BEGIN:VCALENDAR
VERSION:2.0
PRODID:-//eventon.com NONSGML v1.0//EN
CALSCALE:GREGORIAN
METHOD:PUBLISH
BEGIN:VEVENT
UID:69e74c3d63650
DTSTAMP:20260421T100653Z
DTSTART:20260201T150000Z
DTEND:20260201T100000Z
LOCATION:
SUMMARY:Eine Mords-Freundin
DESCRIPTION:„Tiefschwarzer britischer Humor“ (NDR) Auf der gemeinsamen 
 Kreuzfahrt hat das Ehepaar Debbie und Peter einen fatalen Fehler begangen: 
 Sie versprachen ihrer exzentrischen Urlaubsbekanntschaft\,  in Kontakt zu b
 leiben. Prompt hat die sich daraufhin bei ihnen eingeladen. Elsa Jean Krako
 wski ist Witwe\,  Trump-Fan und vor allem völlig schamlos. Als wäre das n
 och[..]\nhttps://schleswig-holstein.sh/blog/veranstaltungen/eine-mords-freu
 ndin/
URL:https://schleswig-holstein.sh/blog/veranstaltungen/eine-mords-freundin/
END:VEVENT
END:VCALENDAR