BEGIN:VCALENDAR
VERSION:2.0
PRODID:-//eventon.com NONSGML v1.0//EN
CALSCALE:GREGORIAN
METHOD:PUBLISH
BEGIN:VEVENT
UID:69e74c1372371
DTSTAMP:20260421T100611Z
DTSTART:20260315T170000Z
DTEND:20260314T230000Z
LOCATION:
SUMMARY:Eine Mords-Freundin
DESCRIPTION:„Tiefschwarzer britischer Humor“ (NDR) Auf der gemeinsamen 
 Kreuzfahrt hat das Ehepaar Debbie und Peter einen fatalen Fehler begangen: 
 Sie versprachen ihrer exzentrischen Urlaubsbekanntschaft\,  in Kontakt zu b
 leiben. Prompt hat die sich daraufhin bei ihnen eingeladen. Elsa Jean Krako
 wski ist Witwe\,  Trump-Fan und vor allem völlig schamlos. Als wäre das n
 och[..]\nhttps://schleswig-holstein.sh/blog/veranstaltungen/eine-mords-freu
 ndin/var/ri-2.l-L1
URL:https://schleswig-holstein.sh/blog/veranstaltungen/eine-mords-freundin/var/ri-2.l-L1
END:VEVENT
END:VCALENDAR