BEGIN:VCALENDAR
VERSION:2.0
PRODID:-//eventon.com NONSGML v1.0//EN
CALSCALE:GREGORIAN
METHOD:PUBLISH
BEGIN:VEVENT
UID:69e760c35c1ab
DTSTAMP:20260421T113427Z
DTSTART:20260207T180000Z
DTEND:20260207T100000Z
LOCATION:
SUMMARY:Ball im Savoy
DESCRIPTION:Paul Abrahams hinreißende Erfolgsoperette erzählt mit großem
  Wortwitz die verrückte Geschichte einer rauschenden Ballnacht. Unter den 
 illustren Gästen ein frisch verheiratetes Paar\,  das es mit der Treue nic
 ht gar so ernst nimmt\,  eine junge Frau\,  für die ein männliches Pseudo
 nym der einzige Weg scheint\,  um als Komponistin ernst genommen zu[..]\nht
 tps://schleswig-holstein.sh/blog/veranstaltungen/ball-im-savoy/
URL:https://schleswig-holstein.sh/blog/veranstaltungen/ball-im-savoy/
END:VEVENT
END:VCALENDAR