BEGIN:VCALENDAR
VERSION:2.0
PRODID:-//eventon.com NONSGML v1.0//EN
CALSCALE:GREGORIAN
METHOD:PUBLISH
BEGIN:VEVENT
UID:69e74c0762ba6
DTSTAMP:20260421T100559Z
DTSTART:20260210T183000Z
DTEND:20260209T230000Z
LOCATION:
SUMMARY:Ball im Savoy
DESCRIPTION:Paul Abrahams hinreißende Erfolgsoperette erzählt mit großem
  Wortwitz die verrückte Geschichte einer rauschenden Ballnacht. Unter den 
 illustren Gästen ein frisch verheiratetes Paar\,  das es mit der Treue nic
 ht gar so ernst nimmt\,  eine junge Frau\,  für die ein männliches Pseudo
 nym der einzige Weg scheint\,  um als Komponistin ernst genommen zu[..]\nht
 tps://schleswig-holstein.sh/blog/veranstaltungen/ball-im-savoy/var/ri-1.l-L
 1
URL:https://schleswig-holstein.sh/blog/veranstaltungen/ball-im-savoy/var/ri-1.l-L1
END:VEVENT
END:VCALENDAR