BEGIN:VCALENDAR
VERSION:2.0
PRODID:-//eventon.com NONSGML v1.0//EN
CALSCALE:GREGORIAN
METHOD:PUBLISH
BEGIN:VEVENT
UID:69e733e24b6cb
DTSTAMP:20260421T082258Z
DTSTART:20260308T170000Z
DTEND:20260307T230000Z
LOCATION:
SUMMARY:Kalter WeiÃŸer Mann
DESCRIPTION:Der Tod ist nie schÃ¶n. Aber es gibt Schlimmeres als mit 94 fri
 edlich einzuschlafen. Die Trauerfeier fÃ¼r den Vorstand des mittelstÃ¤ndisc
 hen Unternehmens jedoch lÃ¤uft aus dem Ruder. Der Anlass: Die Aufschrift â€
 žIn tiefer Trauer\,  Deine Mitarbeiterâ€œ auf der Trauerkranzschleife. Was 
 aber ist denn mit den Mitarbeiterinnen? Vor der Zeremonie entbrennt[..]\nht
 tps://schleswig-holstein.sh/blog/veranstaltungen/kalter-weisser-mann-3/var/
 ri-1.l-L1
URL:https://schleswig-holstein.sh/blog/veranstaltungen/kalter-weisser-mann-3/var/ri-1.l-L1
END:VEVENT
END:VCALENDAR