BEGIN:VCALENDAR
VERSION:2.0
PRODID:-//eventon.com NONSGML v1.0//EN
CALSCALE:GREGORIAN
METHOD:PUBLISH
BEGIN:VEVENT
UID:69e733de8639d
DTSTAMP:20260421T082254Z
DTSTART:20260303T183000Z
DTEND:20260302T230000Z
LOCATION:
SUMMARY:4. Sinfoniekonzert: AURORA
DESCRIPTION:Nina Shekhar (*1995) „Lumina“ Wolfgang Amadeus Mozart (1756
 –1791) Konzert A-Dur für Klarinette und Orchester KV 622 Judith Weir (*1
 954) „Still\,  Glowing“ Jean Sibelius (1865–1957) Sinfonie Nr. 2 D-Du
 r op. 43 SIE WÜNSCHEN – WIR SPIELEN! Als Besucher*in des 4. SINFONIEKONZ
 ERTS haben Sie die Wahl! Stimmen Sie am Konzertabend vor Ort[..]\nhttps://s
 chleswig-holstein.sh/blog/veranstaltungen/4-sinfoniekonzert-aurora/var/ri-4
 .l-L1
URL:https://schleswig-holstein.sh/blog/veranstaltungen/4-sinfoniekonzert-aurora/var/ri-4.l-L1
END:VEVENT
END:VCALENDAR