BEGIN:VCALENDAR
VERSION:2.0
PRODID:-//eventon.com NONSGML v1.0//EN
CALSCALE:GREGORIAN
METHOD:PUBLISH
BEGIN:VEVENT
UID:69eb62f774e0d
DTSTAMP:20260424T123255Z
DTSTART:20260424T170000Z
DTEND:20260424T215900Z
LOCATION:Anscharkirche Neumünster Christianstr. 11 · 24534 Neumünster\,  Neumünster\,  Deutschland 24534\,  Deutschland\,  Neumünster\,  Deutschland\,  Deutschland\,  Neumünster\,  Deutschland\,  Deutschland
SUMMARY:Be moved – A Night of Gospel Power
DESCRIPTION:Mitreißendes Gospelkonzert am 24. April 2026 in der Anscharkir
 che Nach dem großen Erfolg im vergangenen Jahr kehren die AfroGospel Voice
 s mit ihrem charismatischen Chorleiter Folarin Omishade am 24. April 2026 u
 m 19 Uhr zurück nach Neumünster. In der Anscharkirche erwartet das Publik
 um ein mitreißendes Gospelkonzert voller Energie\,  Emotion und authentisc
 hem[..]\nhttps://schleswig-holstein.sh/blog/veranstaltungen/be-moved-a-nigh
 t-of-gospel-power/
URL:https://schleswig-holstein.sh/blog/veranstaltungen/be-moved-a-night-of-gospel-power/
END:VEVENT
END:VCALENDAR