BEGIN:VCALENDAR
VERSION:2.0
PRODID:-//eventon.com NONSGML v1.0//EN
CALSCALE:GREGORIAN
METHOD:PUBLISH
BEGIN:VEVENT
UID:69e78aed35996
DTSTAMP:20260421T143421Z
DTSTART:20260328
DTEND:20260329
LOCATION:Kreismusikschule Schleswig- Flensburg Suadicanistraße 1\,  24837 Schleswig\,  Schleswig 24837\,  DE
SUMMARY:Schleswig
DESCRIPTION:32. Jahre Schleswig-Holstein Saxophon Workshop 28-29.03.2026 in
  der Kreismusikschule Schleswig -Übung macht den Meister- „Der größte 
 Saxophon Workshop in Schleswig-Holstein“ Auch für Klarinette Querflöte.
  Jonny Möller\,  ein erfahrener Saxophonist und Dozent\,  lädt dich herzl
 ich zum großen Saxophon-Workshop 2026 ein! Egal\,  ob du Anfänger oder Fo
 rtgeschrittener bist\,  du bist willkommen\,  an[..]\nhttps://schleswig-hol
 stein.sh/blog/veranstaltungen/schleswig-2/
URL:https://schleswig-holstein.sh/blog/veranstaltungen/schleswig-2/
END:VEVENT
END:VCALENDAR