BEGIN:VCALENDAR
VERSION:2.0
PRODID:-//eventon.com NONSGML v1.0//EN
CALSCALE:GREGORIAN
METHOD:PUBLISH
BEGIN:VEVENT
UID:69e75df971266
DTSTAMP:20260421T112233Z
DTSTART:20260214T100000Z
DTEND:20260215T210000Z
LOCATION:Messe Husum &amp; Congress Am Messepl. 12 - 18\,  25813 Husum
SUMMARY:Husum Tattoo Convention
DESCRIPTION:An alle Tattoo und Kunstliebhaber\,  es geht in die 2. Runde. W
 ir freuen uns euch die zweite Tattooconvention in Husum zu präsentieren. W
 ir bringen wieder Tattookunst\,  Entertainment und ein tolles Erlebnis für
  die ganze Familie nach Husum. Die Tattoo Convention findet wieder in der M
 essehalle in Husum statt. Am 14.[..]\nhttps://schleswig-holstein.sh/blog/ve
 ranstaltungen/husum-tattoo-convention/
URL:https://schleswig-holstein.sh/blog/veranstaltungen/husum-tattoo-convention/
END:VEVENT
END:VCALENDAR