BEGIN:VCALENDAR
VERSION:2.0
PRODID:-//eventon.com NONSGML v1.0//EN
CALSCALE:GREGORIAN
METHOD:PUBLISH
BEGIN:VEVENT
UID:69e748973fa95
DTSTAMP:20260421T095119Z
DTSTART:20260307
DTEND:20260308
LOCATION:MS Events MS Events\,  Kiel 24109\,  Deutschland
SUMMARY:Neumünster Tattoo Convention
DESCRIPTION:5. Tattoo Convention Neumünster – Das große Jubiläum! Alle
  Jahre wieder – am 07. &amp; 08.März 2026 feiern wir bereits die 5. Tatt
 oo Convention in Neumünster! Freut euch auf ein Wochenende voller Kreativi
 tät\,  Kunst und Körperkultur. Top-Tattoo-Künstler aus dem In- und Ausla
 nd zeigen ihr Können live vor Ort. Kommt vorbei[..]\nhttps://schleswig-hol
 stein.sh/blog/veranstaltungen/neumuenster-tattoo-convention/
URL:https://schleswig-holstein.sh/blog/veranstaltungen/neumuenster-tattoo-convention/
END:VEVENT
END:VCALENDAR