BEGIN:VCALENDAR
VERSION:2.0
PRODID:-//eventon.com NONSGML v1.0//EN
CALSCALE:GREGORIAN
METHOD:PUBLISH
BEGIN:VEVENT
UID:69e772d8b083d
DTSTAMP:20260421T125136Z
DTSTART:20260121T130000Z
DTEND:20260121T170000Z
LOCATION:Galerie RAINER GRÖSCHL Holtenauer Straße 59\,  24105 Kiel
SUMMARY:Kiel: Counterparts
DESCRIPTION:Anja Spitzer fasziniert die Gratwanderung von einem massiven in
 takten Skulpturenkörper\,  der sein eigenes Zentrum besitzt und verteidigt
 \,  hin zu fast marginalen skulpturalen &#8222;Randerscheinungen&#8220;. Im
  Zentrum von Lucy Königs plastischen Arbeiten stehen Grenzbereiche von For
 men und Erzählungen\,  die auf Vergangenes verweisen. Mit der Arbeit &#822
 2;Archiv der Begegnungen&#8220; verweist sie z.B. auf[..]\nhttps://schleswi
 g-holstein.sh/blog/veranstaltungen/kiel-counterparts/
URL:https://schleswig-holstein.sh/blog/veranstaltungen/kiel-counterparts/
END:VEVENT
END:VCALENDAR